{
 "currentVersion": 10.81,
 "serviceDescription": "SSCAFCA/soil_moisture",
 "name": "SSCAFCA/soil_moisture",
 "description": "",
 "extent": {
  "xmin": 1422883.6548995646,
  "ymin": 1520545.4105522446,
  "xmax": 1570883.6548995646,
  "ymax": 1616545.4105522446,
  "spatialReference": {
   "wkid": 102713,
   "latestWkid": 2258
  }
 },
 "initialExtent": {
  "xmin": 1422883.6548995646,
  "ymin": 1520545.4105522446,
  "xmax": 1570883.6548995646,
  "ymax": 1616545.4105522446,
  "spatialReference": {
   "wkid": 102713,
   "latestWkid": 2258
  }
 },
 "fullExtent": {
  "xmin": 1422883.6548995646,
  "ymin": 1520545.4105522446,
  "xmax": 1570883.6548995646,
  "ymax": 1616545.4105522446,
  "spatialReference": {
   "wkid": 102713,
   "latestWkid": 2258
  }
 },
 "pixelSizeX": 4000,
 "pixelSizeY": 4000,
 "bandCount": 1,
 "pixelType": "F32",
 "minPixelSize": 0,
 "maxPixelSize": 0,
 "copyrightText": "",
 "serviceDataType": "esriImageServiceDataTypeGeneric",
 "minValues": [
  0.02239185757935
 ],
 "maxValues": [
  0.098897732794285
 ],
 "meanValues": [
  0.04297749819967
 ],
 "stdvValues": [
  0.0154902339415
 ],
 "objectIdField": "",
 "fields": [],
 "capabilities": "Image,Metadata,Mensuration",
 "defaultMosaicMethod": "Center",
 "allowedMosaicMethods": "",
 "sortField": "",
 "sortValue": null,
 "sortAscending": true,
 "mosaicOperator": "First",
 "defaultCompressionQuality": 75,
 "defaultResamplingMethod": "Bilinear",
 "maxImageHeight": 4100,
 "maxImageWidth": 15000,
 "allowRasterFunction": true,
 "rasterFunctionInfos": [
  {
   "name": "soilmoisturesymbology",
   "description": "A raster function template.",
   "help": ""
  },
  {
   "name": "None",
   "description": "",
   "help": ""
  }
 ],
 "rasterTypeInfos": [
  {
   "name": "Raster Dataset",
   "description": "Supports all ArcGIS Raster Datasets",
   "help": ""
  }
 ],
 "mensurationCapabilities": "Basic",
 "hasHistograms": true,
 "hasColormap": false,
 "hasRasterAttributeTable": false,
 "minScale": 0,
 "maxScale": 0,
 "exportTilesAllowed": false,
 "hasMultidimensions": false,
 "supportsStatistics": false,
 "supportsAdvancedQueries": false,
 "editFieldsInfo": null,
 "ownershipBasedAccessControlForRasters": null,
 "allowComputeTiePoints": false,
 "useStandardizedQueries": true,
 "advancedQueryCapabilities": {
  "useStandardizedQueries": true,
  "supportsStatistics": false,
  "supportsOrderBy": false,
  "supportsDistinct": false,
  "supportsPagination": false
 },
 "spatialReference": {
  "wkid": 102713,
  "latestWkid": 2258
 }
}
