{
 "currentVersion": 10.81,
 "serviceDescription": "unmfacilities/UNM2020ortho",
 "name": "unmfacilities/UNM2020ortho",
 "description": "",
 "extent": {
  "xmin": 1522661.5000241355,
  "ymin": 1476599.4999983981,
  "xmax": 1533201.5000241355,
  "ymax": 1494126.4999983981,
  "spatialReference": {
   "wkid": 2903,
   "latestWkid": 2903
  }
 },
 "initialExtent": {
  "xmin": 1522661.5000241355,
  "ymin": 1476599.4999983981,
  "xmax": 1533201.5000241355,
  "ymax": 1494126.4999983981,
  "spatialReference": {
   "wkid": 2903,
   "latestWkid": 2903
  }
 },
 "fullExtent": {
  "xmin": 1522661.5000241355,
  "ymin": 1476599.4999983981,
  "xmax": 1533201.5000241355,
  "ymax": 1494126.4999983981,
  "spatialReference": {
   "wkid": 2903,
   "latestWkid": 2903
  }
 },
 "pixelSizeX": 0.5,
 "pixelSizeY": 0.5,
 "bandCount": 4,
 "pixelType": "U8",
 "minPixelSize": 0,
 "maxPixelSize": 0,
 "copyrightText": "",
 "serviceDataType": "esriImageServiceDataTypeGeneric",
 "minValues": [
  0,
  0,
  0,
  255
 ],
 "maxValues": [
  255,
  255,
  255,
  255
 ],
 "meanValues": [
  120.83956588951,
  120.26134649234,
  104.12164001747,
  255
 ],
 "stdvValues": [
  44.754001867251,
  42.650494745226,
  38.34000917078,
  0
 ],
 "objectIdField": "",
 "fields": [],
 "capabilities": "Image,Metadata,Mensuration",
 "defaultMosaicMethod": "Center",
 "allowedMosaicMethods": "",
 "sortField": "",
 "sortValue": null,
 "sortAscending": true,
 "mosaicOperator": "First",
 "defaultCompressionQuality": 75,
 "defaultResamplingMethod": "Bilinear",
 "maxImageHeight": 4100,
 "maxImageWidth": 15000,
 "allowRasterFunction": true,
 "rasterFunctionInfos": [
  {
   "name": "None",
   "description": "",
   "help": ""
  }
 ],
 "rasterTypeInfos": [
  {
   "name": "Raster Dataset",
   "description": "Supports all ArcGIS Raster Datasets",
   "help": ""
  }
 ],
 "mensurationCapabilities": "Basic",
 "hasHistograms": true,
 "hasColormap": false,
 "hasRasterAttributeTable": false,
 "minScale": 0,
 "maxScale": 0,
 "exportTilesAllowed": false,
 "hasMultidimensions": false,
 "supportsStatistics": false,
 "supportsAdvancedQueries": false,
 "editFieldsInfo": null,
 "ownershipBasedAccessControlForRasters": null,
 "allowComputeTiePoints": false,
 "useStandardizedQueries": true,
 "advancedQueryCapabilities": {
  "useStandardizedQueries": true,
  "supportsStatistics": false,
  "supportsOrderBy": false,
  "supportsDistinct": false,
  "supportsPagination": false
 },
 "spatialReference": {
  "wkid": 2903,
  "latestWkid": 2903
 }
}
