View In:
ArcGIS JavaScript
ArcGIS Online Map Viewer
ArcGIS Earth
ArcMap
View Footprint In:
ArcGIS Online Map Viewer
Service Description: unmfacilities/UNM2020_web
Name: unmfacilities/UNM2020_web
Description:
Single Fused Map Cache: false
Extent:
XMin: -1.1871525453305159E7
YMin: 4171753.7267477787
XMax: -1.1867579047412347E7
YMax: 4178319.5890795034
Spatial Reference: 102100
(3857)
Initial Extent:
XMin: -1.1871525453305159E7
YMin: 4171753.7267477787
XMax: -1.1867579047412347E7
YMax: 4178319.5890795034
Spatial Reference: 102100
(3857)
Full Extent:
XMin: -1.1871525453305159E7
YMin: 4171753.7267477787
XMax: -1.1867579047412347E7
YMax: 4178319.5890795034
Spatial Reference: 102100
(3857)
Pixel Size X: 0.1524003048006069
Pixel Size Y: 0.15240030480061104
Band Count: 4
Pixel Type: U8
RasterFunction Infos: {"rasterFunctionInfos": [{
"name": "None",
"description": "",
"help": ""
}]}
Mensuration Capabilities: Basic
Has Histograms: true
Has Colormap: false
Has Multi Dimensions : false
Rendering Rule:
Min Scale: 0
Max Scale: 0
Copyright Text:
Service Data Type: esriImageServiceDataTypeGeneric
Min Values: 0, 0, 0, 255
Max Values: 255, 255, 255, 255
Mean Values: 120.8393682406515, 120.26112735371542, 104.12167061282034, 255
Standard Deviation Values: 44.75475624457328, 42.651086776179035, 38.34046973512223, 0
Object ID Field:
Fields:
None
Default Mosaic Method: Center
Allowed Mosaic Methods:
SortField:
SortValue: null
Mosaic Operator: First
Default Compression Quality: 75
Default Resampling Method: Bilinear
Max Record Count: null
Max Image Height: 4100
Max Image Width: 15000
Max Download Image Count: null
Max Mosaic Image Count: null
Allow Raster Function: true
Allow Copy: null
Allow Analysis: null
Allow Compute TiePoints: false
Supports Statistics: false
Supports Advanced Queries: false
Use StandardizedQueries: true
Raster Type Infos:
Name: Raster Dataset
Description: Supports all ArcGIS Raster Datasets
Help:
Has Raster Attribute Table: false
Edit Fields Info: null
Ownership Based AccessControl For Rasters: null
Child Resources:
Info
Histograms
Key Properties
Legend
Raster Function Infos
Supported Operations:
Export Image
Identify
Measure
Compute Histograms
Compute Statistics Histograms
Get Samples
Compute Class Statistics
Query Boundary
Compute Pixel Location
Validate
Project