View In:
ArcGIS JavaScript
ArcGIS Online Map Viewer
ArcGIS Earth
ArcMap
View Footprint In:
ArcGIS Online Map Viewer
Service Description: unmfacilities/UNM2020ortho
Name: unmfacilities/UNM2020ortho
Description:
Single Fused Map Cache: false
Extent:
XMin: 1522661.5000241355
YMin: 1476599.4999983981
XMax: 1533201.5000241355
YMax: 1494126.4999983981
Spatial Reference: 2903
(2903)
Initial Extent:
XMin: 1522661.5000241355
YMin: 1476599.4999983981
XMax: 1533201.5000241355
YMax: 1494126.4999983981
Spatial Reference: 2903
(2903)
Full Extent:
XMin: 1522661.5000241355
YMin: 1476599.4999983981
XMax: 1533201.5000241355
YMax: 1494126.4999983981
Spatial Reference: 2903
(2903)
Pixel Size X: 0.5
Pixel Size Y: 0.5
Band Count: 4
Pixel Type: U8
RasterFunction Infos: {"rasterFunctionInfos": [{
"name": "None",
"description": "",
"help": ""
}]}
Mensuration Capabilities: Basic
Has Histograms: true
Has Colormap: false
Has Multi Dimensions : false
Rendering Rule:
Min Scale: 0
Max Scale: 0
Copyright Text:
Service Data Type: esriImageServiceDataTypeGeneric
Min Values: 0, 0, 0, 255
Max Values: 255, 255, 255, 255
Mean Values: 120.83956588951, 120.26134649234, 104.12164001747, 255
Standard Deviation Values: 44.754001867251, 42.650494745226, 38.34000917078, 0
Object ID Field:
Fields:
None
Default Mosaic Method: Center
Allowed Mosaic Methods:
SortField:
SortValue: null
Mosaic Operator: First
Default Compression Quality: 75
Default Resampling Method: Bilinear
Max Record Count: null
Max Image Height: 4100
Max Image Width: 15000
Max Download Image Count: null
Max Mosaic Image Count: null
Allow Raster Function: true
Allow Copy: null
Allow Analysis: null
Allow Compute TiePoints: false
Supports Statistics: false
Supports Advanced Queries: false
Use StandardizedQueries: true
Raster Type Infos:
Name: Raster Dataset
Description: Supports all ArcGIS Raster Datasets
Help:
Has Raster Attribute Table: false
Edit Fields Info: null
Ownership Based AccessControl For Rasters: null
Child Resources:
Info
Histograms
Key Properties
Legend
Raster Function Infos
Supported Operations:
Export Image
Identify
Measure
Compute Histograms
Compute Statistics Histograms
Get Samples
Compute Class Statistics
Query Boundary
Compute Pixel Location
Validate
Project